BEGIN:VCALENDAR
VERSION:2.0
PRODID:-//Bronzeville Center for the Arts - ECPv6.15.18//NONSGML v1.0//EN
CALSCALE:GREGORIAN
METHOD:PUBLISH
X-ORIGINAL-URL:https://bcamke.org
X-WR-CALDESC:Events for Bronzeville Center for the Arts
REFRESH-INTERVAL;VALUE=DURATION:PT1H
X-Robots-Tag:noindex
X-PUBLISHED-TTL:PT1H
BEGIN:VTIMEZONE
TZID:America/Chicago
BEGIN:DAYLIGHT
TZOFFSETFROM:-0600
TZOFFSETTO:-0500
TZNAME:CDT
DTSTART:20240310T080000
END:DAYLIGHT
BEGIN:STANDARD
TZOFFSETFROM:-0500
TZOFFSETTO:-0600
TZNAME:CST
DTSTART:20241103T070000
END:STANDARD
BEGIN:DAYLIGHT
TZOFFSETFROM:-0600
TZOFFSETTO:-0500
TZNAME:CDT
DTSTART:20250309T080000
END:DAYLIGHT
BEGIN:STANDARD
TZOFFSETFROM:-0500
TZOFFSETTO:-0600
TZNAME:CST
DTSTART:20251102T070000
END:STANDARD
BEGIN:DAYLIGHT
TZOFFSETFROM:-0600
TZOFFSETTO:-0500
TZNAME:CDT
DTSTART:20260308T080000
END:DAYLIGHT
BEGIN:STANDARD
TZOFFSETFROM:-0500
TZOFFSETTO:-0600
TZNAME:CST
DTSTART:20261101T070000
END:STANDARD
END:VTIMEZONE
BEGIN:VEVENT
DTSTART;TZID=America/Chicago:20251107T170000
DTEND;TZID=America/Chicago:20251107T220000
DTSTAMP:20260422T063134
CREATED:20251106T202137Z
LAST-MODIFIED:20260115T162642Z
UID:10001847-1762534800-1762552800@bcamke.org
SUMMARY:Bronzeville Restaurant Crawl & Bash
DESCRIPTION:To RSVP\, please email info@mlkedcmke.org\, call (414) 264-5000. or visit their Eventbrite.
URL:https://bcamke.org/event/bronzeville-restaurant-crawl-bash/
LOCATION:No Studios\, 1037 W McKinley Ave\, Milwaukee\, WI\, 53205\, United States
CATEGORIES:Community Event
ORGANIZER;CN="Martin Luther King Economic Development Corporation":MAILTO:info@mlkedcmke.org
END:VEVENT
END:VCALENDAR